BEGIN:VCALENDAR
VERSION:2.0
PRODID:-//KCE Baseball - ECPv6.15.17.1//NONSGML v1.0//EN
CALSCALE:GREGORIAN
METHOD:PUBLISH
X-ORIGINAL-URL:https://www.kcebaseball.com
X-WR-CALDESC:Events for KCE Baseball
REFRESH-INTERVAL;VALUE=DURATION:PT1H
X-Robots-Tag:noindex
X-PUBLISHED-TTL:PT1H
BEGIN:VTIMEZONE
TZID:America/Chicago
BEGIN:DAYLIGHT
TZOFFSETFROM:-0600
TZOFFSETTO:-0500
TZNAME:CDT
DTSTART:20240310T080000
END:DAYLIGHT
BEGIN:STANDARD
TZOFFSETFROM:-0500
TZOFFSETTO:-0600
TZNAME:CST
DTSTART:20241103T070000
END:STANDARD
BEGIN:DAYLIGHT
TZOFFSETFROM:-0600
TZOFFSETTO:-0500
TZNAME:CDT
DTSTART:20250309T080000
END:DAYLIGHT
BEGIN:STANDARD
TZOFFSETFROM:-0500
TZOFFSETTO:-0600
TZNAME:CST
DTSTART:20251102T070000
END:STANDARD
BEGIN:DAYLIGHT
TZOFFSETFROM:-0600
TZOFFSETTO:-0500
TZNAME:CDT
DTSTART:20260308T080000
END:DAYLIGHT
BEGIN:STANDARD
TZOFFSETFROM:-0500
TZOFFSETTO:-0600
TZNAME:CST
DTSTART:20261101T070000
END:STANDARD
END:VTIMEZONE
BEGIN:VTIMEZONE
TZID:UTC
BEGIN:STANDARD
TZOFFSETFROM:+0000
TZOFFSETTO:+0000
TZNAME:UTC
DTSTART:20240101T000000
END:STANDARD
END:VTIMEZONE
BEGIN:VEVENT
DTSTART;TZID=America/Chicago:20250605T143000
DTEND;TZID=America/Chicago:20250605T163000
DTSTAMP:20260419T163915
CREATED:20250604T204200Z
LAST-MODIFIED:20250604T204200Z
UID:1533-1749133800-1749141000@www.kcebaseball.com
SUMMARY:15u Game 1
DESCRIPTION: 
URL:https://www.kcebaseball.com/calendar/15u-game-1/
LOCATION:College of DuPage – Baseball Field\, 425 22nd St.\, Glen Ellyn\, IL\, 60137\, United States
CATEGORIES:15u,Game
END:VEVENT
BEGIN:VEVENT
DTSTART;TZID=America/Chicago:20250605T150000
DTEND;TZID=America/Chicago:20250605T170000
DTSTAMP:20260419T163915
CREATED:20250604T204603Z
LAST-MODIFIED:20250604T204603Z
UID:1542-1749135600-1749142800@www.kcebaseball.com
SUMMARY:17u Game 1
DESCRIPTION: 
URL:https://www.kcebaseball.com/calendar/17u-game-1/
LOCATION:Wheaton Academy\, 900 Prince Crossing Rd.\, West Chicago\, IL\, 60185\, United States
CATEGORIES:17u,Game
END:VEVENT
BEGIN:VEVENT
DTSTART;TZID=America/Chicago:20250605T160000
DTEND;TZID=America/Chicago:20250605T180000
DTSTAMP:20260419T163915
CREATED:20250604T205222Z
LAST-MODIFIED:20250604T205222Z
UID:1554-1749139200-1749146400@www.kcebaseball.com
SUMMARY:16u Game 2
DESCRIPTION: 
URL:https://www.kcebaseball.com/calendar/16u-game-2/
LOCATION:Marist HS\, 27950 S Kedzie Ave.\, Alsip\, IL\, 60803\, United States
CATEGORIES:16u,Game
END:VEVENT
BEGIN:VEVENT
DTSTART;TZID=America/Chicago:20250606T090000
DTEND;TZID=America/Chicago:20250606T150000
DTSTAMP:20260419T163915
CREATED:20250604T210126Z
LAST-MODIFIED:20250604T210126Z
UID:1566-1749200400-1749222000@www.kcebaseball.com
SUMMARY:18u Bracket Play
DESCRIPTION: 
URL:https://www.kcebaseball.com/calendar/18u-bracket-play/
LOCATION:Eastside Sports Complex\, 3565 Legacy Blvd.\, St. Charles\, IL\, 60174\, United States
CATEGORIES:18u,Game
END:VEVENT
BEGIN:VEVENT
DTSTART;TZID=America/Chicago:20250606T123000
DTEND;TZID=America/Chicago:20250606T143000
DTSTAMP:20260419T163915
CREATED:20250604T204742Z
LAST-MODIFIED:20250604T204742Z
UID:1544-1749213000-1749220200@www.kcebaseball.com
SUMMARY:17u Game 2
DESCRIPTION: 
URL:https://www.kcebaseball.com/calendar/17u-game-2/
LOCATION:Ozinga Field\, 14011 Kenton Ave.\, Crestwood\, IL\, 60445\, United States
CATEGORIES:17u,Game
END:VEVENT
BEGIN:VEVENT
DTSTART;TZID=America/Chicago:20250606T133000
DTEND;TZID=America/Chicago:20250606T153000
DTSTAMP:20260419T163915
CREATED:20250604T205504Z
LAST-MODIFIED:20250604T205504Z
UID:1556-1749216600-1749223800@www.kcebaseball.com
SUMMARY:16u Game 3
DESCRIPTION: 
URL:https://www.kcebaseball.com/calendar/16u-game-3/
LOCATION:UIC – Baseball Field\, 901 W Roosevelt Rd.\, Chicago\, IL\, 60608\, United States
CATEGORIES:16u,Game
END:VEVENT
BEGIN:VEVENT
DTSTART;TZID=America/Chicago:20250606T143000
DTEND;TZID=America/Chicago:20250606T163000
DTSTAMP:20260419T163915
CREATED:20250604T204252Z
LAST-MODIFIED:20250604T204252Z
UID:1536-1749220200-1749227400@www.kcebaseball.com
SUMMARY:15u Game 2
DESCRIPTION: 
URL:https://www.kcebaseball.com/calendar/15u-game-2/
LOCATION:Lee Pfund Stadium\, 560-70 S Gary Ave.\, Carol Stream\, IL\, 60188\, United States
CATEGORIES:15u,Game
END:VEVENT
BEGIN:VEVENT
DTSTART;TZID=America/Chicago:20250606T190000
DTEND;TZID=America/Chicago:20250606T210000
DTSTAMP:20260419T163915
CREATED:20250604T204332Z
LAST-MODIFIED:20250604T204332Z
UID:1538-1749236400-1749243600@www.kcebaseball.com
SUMMARY:15u Game 3
DESCRIPTION: 
URL:https://www.kcebaseball.com/calendar/15u-game-3/
LOCATION:Lee Pfund Stadium\, 560-70 S Gary Ave.\, Carol Stream\, IL\, 60188\, United States
CATEGORIES:15u,Game
END:VEVENT
BEGIN:VEVENT
DTSTART;TZID=America/Chicago:20250607T100000
DTEND;TZID=America/Chicago:20250607T120000
DTSTAMP:20260419T163915
CREATED:20250604T205545Z
LAST-MODIFIED:20250604T205545Z
UID:1559-1749290400-1749297600@www.kcebaseball.com
SUMMARY:16u Game 4
DESCRIPTION: 
URL:https://www.kcebaseball.com/calendar/16u-game-4/
LOCATION:Lewis University Baseball Field\, 1 University Pkwy\, Romeoville\, IL\, 60446\, United States
CATEGORIES:16u,Game
END:VEVENT
BEGIN:VEVENT
DTSTART;TZID=America/Chicago:20250607T110000
DTEND;TZID=America/Chicago:20250607T130000
DTSTAMP:20260419T163915
CREATED:20250604T204413Z
LAST-MODIFIED:20250604T204413Z
UID:1540-1749294000-1749301200@www.kcebaseball.com
SUMMARY:15u Game 4
DESCRIPTION: 
URL:https://www.kcebaseball.com/calendar/15u-game-4/
LOCATION:Benedectine University\, 5700 College Rd.\, Lisle\, 60532
CATEGORIES:15u,Game
END:VEVENT
BEGIN:VEVENT
DTSTART;TZID=America/Chicago:20250607T143000
DTEND;TZID=America/Chicago:20250607T163000
DTSTAMP:20260419T163915
CREATED:20250604T204826Z
LAST-MODIFIED:20250604T204826Z
UID:1547-1749306600-1749313800@www.kcebaseball.com
SUMMARY:17u Game 3
DESCRIPTION: 
URL:https://www.kcebaseball.com/calendar/17u-game-3/
LOCATION:Judson University\, 1151 N State St\, Elgin\, IL\, 60123\, United States
CATEGORIES:17u,Game
END:VEVENT
BEGIN:VEVENT
DTSTART;TZID=America/Chicago:20250607T170000
DTEND;TZID=America/Chicago:20250607T190000
DTSTAMP:20260419T163915
CREATED:20250604T204925Z
LAST-MODIFIED:20250604T204925Z
UID:1549-1749315600-1749322800@www.kcebaseball.com
SUMMARY:17u Game 4
DESCRIPTION: 
URL:https://www.kcebaseball.com/calendar/17u-game-4/
LOCATION:Judson University\, 1151 N State St\, Elgin\, IL\, 60123\, United States
CATEGORIES:17u,Game
END:VEVENT
BEGIN:VEVENT
DTSTART;TZID=UTC:20250610T080000
DTEND;TZID=UTC:20250610T170000
DTSTAMP:20260419T163916
CREATED:20250610T015548Z
LAST-MODIFIED:20250610T015548Z
UID:1573-1749542400-1749574800@www.kcebaseball.com
SUMMARY:18u vs Citius IL
DESCRIPTION:TURF Field \n  \nField #3 
URL:https://www.kcebaseball.com/calendar/18u-vs-citius-il/
LOCATION:IL
CATEGORIES:18u,Game
END:VEVENT
BEGIN:VEVENT
DTSTART;TZID=UTC:20250610T080000
DTEND;TZID=UTC:20250610T170000
DTSTAMP:20260419T163916
CREATED:20250610T015803Z
LAST-MODIFIED:20250610T015803Z
UID:1577-1749542400-1749574800@www.kcebaseball.com
SUMMARY:17u vs Tier 1 Elite - Cal
DESCRIPTION:TURF Field \nField #1 
URL:https://www.kcebaseball.com/calendar/17u-vs-tier-1-elite-cal/
LOCATION:IL
CATEGORIES:17u,Game
END:VEVENT
BEGIN:VEVENT
DTSTART;TZID=America/Chicago:20250610T170000
DTEND;TZID=America/Chicago:20250610T200000
DTSTAMP:20260419T163916
CREATED:20250610T020951Z
LAST-MODIFIED:20250610T020951Z
UID:1587-1749574800-1749585600@www.kcebaseball.com
SUMMARY:Open Cages
DESCRIPTION:Either come at 5 – 6 pm or 7 – 8 pm
URL:https://www.kcebaseball.com/calendar/open-cages/
LOCATION:Champion Craft / Bring It Sports\, 303 N 4th St.\, St. Charles\, 60174\, United States
CATEGORIES:15u,16u,17u,18u,Practice
END:VEVENT
BEGIN:VEVENT
DTSTART;TZID=America/Chicago:20250611T180000
DTEND;TZID=America/Chicago:20250611T200000
DTSTAMP:20260419T163916
CREATED:20250610T021303Z
LAST-MODIFIED:20250611T155858Z
UID:1589-1749664800-1749672000@www.kcebaseball.com
SUMMARY:Practice - ALL
DESCRIPTION: 
URL:https://www.kcebaseball.com/calendar/practice-all-3/
LOCATION:Marmion Academy\, 1000 Butterfield Rd.\, Aurora\, IL\, 60502\, United States
CATEGORIES:15u,16u,17u,18u,Practice
END:VEVENT
BEGIN:VEVENT
DTSTART;TZID=America/Chicago:20250612T080000
DTEND;TZID=America/Chicago:20250612T100000
DTSTAMP:20260419T163916
CREATED:20250610T015651Z
LAST-MODIFIED:20250610T015651Z
UID:1575-1749715200-1749722400@www.kcebaseball.com
SUMMARY:17u vs Citius IL
DESCRIPTION:TURF Field  \nField #3 
URL:https://www.kcebaseball.com/calendar/17u-vs-citius-il/
LOCATION:Heritage Park – Wheeling\, 1 Community Blvd.\, Wheeling\, IL\, 60090\, United States
CATEGORIES:17u,Game
END:VEVENT
BEGIN:VEVENT
DTSTART;TZID=America/Chicago:20250612T100000
DTEND;TZID=America/Chicago:20250612T120000
DTSTAMP:20260419T163916
CREATED:20250610T015437Z
LAST-MODIFIED:20250610T015437Z
UID:1571-1749722400-1749729600@www.kcebaseball.com
SUMMARY:18u vs Tier 1 Elite - Bol
DESCRIPTION:TURF Field \nField #3 
URL:https://www.kcebaseball.com/calendar/18u-vs-tier-1-elite-bol/
LOCATION:Heritage Park – Wheeling\, 1 Community Blvd.\, Wheeling\, IL\, 60090\, United States
CATEGORIES:18u,Game
END:VEVENT
BEGIN:VEVENT
DTSTART;TZID=America/Chicago:20250612T120000
DTEND;TZID=America/Chicago:20250612T140000
DTSTAMP:20260419T163916
CREATED:20250610T020010Z
LAST-MODIFIED:20250610T020010Z
UID:1579-1749729600-1749736800@www.kcebaseball.com
SUMMARY:16u vs IL Savage
DESCRIPTION:TURF Field \nField #2 
URL:https://www.kcebaseball.com/calendar/16u-vs-il-savage/
LOCATION:McCaslin Park\, 27W650 North Ave.\, West Chicago\, IL\, 60185\, United States
CATEGORIES:16u,Game
END:VEVENT
BEGIN:VEVENT
DTSTART;TZID=America/Chicago:20250612T140000
DTEND;TZID=America/Chicago:20250612T160000
DTSTAMP:20260419T163916
CREATED:20250610T020310Z
LAST-MODIFIED:20250610T020310Z
UID:1581-1749736800-1749744000@www.kcebaseball.com
SUMMARY:16u vs BYB Belvidere Badgers
DESCRIPTION:TURF Field \n  \nField #3 
URL:https://www.kcebaseball.com/calendar/16u-vs-byb-belvidere-badgers/
LOCATION:McCaslin Park\, 27W650 North Ave.\, West Chicago\, IL\, 60185\, United States
CATEGORIES:16u,Game
END:VEVENT
BEGIN:VEVENT
DTSTART;TZID=America/Chicago:20250613T080000
DTEND;TZID=America/Chicago:20250613T100000
DTSTAMP:20260419T163916
CREATED:20250610T020521Z
LAST-MODIFIED:20250610T020521Z
UID:1583-1749801600-1749808800@www.kcebaseball.com
SUMMARY:15u vs Northwest Outlaws
DESCRIPTION:Varsity Field 
URL:https://www.kcebaseball.com/calendar/15u-vs-northwest-outlaws/
LOCATION:St. Viator High School\, 1213 E Oakton St\, Arlington Heights\, IL\, 60004\, United States
CATEGORIES:15u,Game
END:VEVENT
BEGIN:VEVENT
DTSTART;TZID=America/Chicago:20250613T120000
DTEND;TZID=America/Chicago:20250613T140000
DTSTAMP:20260419T163916
CREATED:20250610T020639Z
LAST-MODIFIED:20250610T020639Z
UID:1585-1749816000-1749823200@www.kcebaseball.com
SUMMARY:15u vs Metamora Redbirds
DESCRIPTION:Varsity Field 
URL:https://www.kcebaseball.com/calendar/15u-vs-metamora-redbirds/
LOCATION:St. Viator High School\, 1213 E Oakton St\, Arlington Heights\, IL\, 60004\, United States
CATEGORIES:15u,Game
END:VEVENT
BEGIN:VEVENT
DTSTART;TZID=America/Chicago:20250619T133000
DTEND;TZID=America/Chicago:20250619T153000
DTSTAMP:20260419T163916
CREATED:20250617T183803Z
LAST-MODIFIED:20250617T183803Z
UID:1604-1750339800-1750347000@www.kcebaseball.com
SUMMARY:17u vs ShowMe Elite
DESCRIPTION: 
URL:https://www.kcebaseball.com/calendar/17u-vs-showme-elite/
LOCATION:Rock Bridge HS\, 4303 S Providence Rd.\, Columbia\, MO\, 65203\, United States
CATEGORIES:17u,Game
END:VEVENT
BEGIN:VEVENT
DTSTART;TZID=America/Chicago:20250619T180000
DTEND;TZID=America/Chicago:20250619T200000
DTSTAMP:20260419T163916
CREATED:20250617T183940Z
LAST-MODIFIED:20250617T183940Z
UID:1607-1750356000-1750363200@www.kcebaseball.com
SUMMARY:18u vs PSA - Berger
DESCRIPTION: 
URL:https://www.kcebaseball.com/calendar/18u-vs-psa-berger/
LOCATION:Battle High School\, 7575 E St Charles Rd.\, Columbia\, MO\, 65202\, United States
CATEGORIES:18u,Game
END:VEVENT
BEGIN:VEVENT
DTSTART;TZID=America/Chicago:20250619T180000
DTEND;TZID=America/Chicago:20250619T200000
DTSTAMP:20260419T163916
CREATED:20250617T184319Z
LAST-MODIFIED:20250617T184319Z
UID:1610-1750356000-1750363200@www.kcebaseball.com
SUMMARY:16u vs River Rats
DESCRIPTION: 
URL:https://www.kcebaseball.com/calendar/16u-vs-river-rats/
LOCATION:Central Methodist U – Estes Field\, 411 Central Methodist Square\, Fayette\, MO\, 65248\, United States
CATEGORIES:16u,Game
END:VEVENT
BEGIN:VEVENT
DTSTART;TZID=America/Chicago:20250620T090000
DTEND;TZID=America/Chicago:20250620T110000
DTSTAMP:20260419T163916
CREATED:20250617T184414Z
LAST-MODIFIED:20250617T184414Z
UID:1613-1750410000-1750417200@www.kcebaseball.com
SUMMARY:18u vs SMCI - Legion
DESCRIPTION: 
URL:https://www.kcebaseball.com/calendar/18u-vs-smci-legion/
LOCATION:Rock Bridge HS\, 4303 S Providence Rd.\, Columbia\, MO\, 65203\, United States
CATEGORIES:18u,Game
END:VEVENT
BEGIN:VEVENT
DTSTART;TZID=America/Chicago:20250620T110000
DTEND;TZID=America/Chicago:20250620T130000
DTSTAMP:20260419T163916
CREATED:20250617T184709Z
LAST-MODIFIED:20250617T184709Z
UID:1615-1750417200-1750424400@www.kcebaseball.com
SUMMARY:16u vs Arsenal 16u
DESCRIPTION: 
URL:https://www.kcebaseball.com/calendar/16u-vs-arsenal-16u/
LOCATION:Battle High School\, 7575 E St Charles Rd.\, Columbia\, MO\, 65202\, United States
CATEGORIES:16u,Game
END:VEVENT
BEGIN:VEVENT
DTSTART;TZID=America/Chicago:20250620T133000
DTEND;TZID=America/Chicago:20250620T153000
DTSTAMP:20260419T163916
CREATED:20250617T184829Z
LAST-MODIFIED:20250617T184829Z
UID:1617-1750426200-1750433400@www.kcebaseball.com
SUMMARY:15u vs Mid-Mo Wildcats
DESCRIPTION: 
URL:https://www.kcebaseball.com/calendar/15u-vs-mid-mo-wildcats/
LOCATION:Battle High School\, 7575 E St Charles Rd.\, Columbia\, MO\, 65202\, United States
CATEGORIES:15u,Game
END:VEVENT
BEGIN:VEVENT
DTSTART;TZID=America/Chicago:20250620T153000
DTEND;TZID=America/Chicago:20250620T173000
DTSTAMP:20260419T163916
CREATED:20250617T185512Z
LAST-MODIFIED:20250617T185512Z
UID:1619-1750433400-1750440600@www.kcebaseball.com
SUMMARY:17u vs Adidas A's
DESCRIPTION: 
URL:https://www.kcebaseball.com/calendar/17u-vs-adidas-as/
LOCATION:Columbia College (Black Field)\, 5220 N. Oakland Gravel Rd.\, Columbia\, MO\, 65202\, United States
CATEGORIES:17u,Game
END:VEVENT
BEGIN:VEVENT
DTSTART;TZID=America/Chicago:20250621T090000
DTEND;TZID=America/Chicago:20250621T110000
DTSTAMP:20260419T163916
CREATED:20250617T185606Z
LAST-MODIFIED:20250617T185606Z
UID:1622-1750496400-1750503600@www.kcebaseball.com
SUMMARY:16u vs Kickapoo 16u
DESCRIPTION: 
URL:https://www.kcebaseball.com/calendar/16u-vs-kickapoo-16u/
LOCATION:Battle High School\, 7575 E St Charles Rd.\, Columbia\, MO\, 65202\, United States
CATEGORIES:16u,Game
END:VEVENT
END:VCALENDAR